BEGIN:VCALENDAR
VERSION:2.0
PRODID:-//BSC Freestyle - ECPv6.0.9//NONSGML v1.0//EN
CALSCALE:GREGORIAN
METHOD:PUBLISH
X-WR-CALNAME:BSC Freestyle
X-ORIGINAL-URL:https://buffalofreestyle.com
X-WR-CALDESC:Events for BSC Freestyle
REFRESH-INTERVAL;VALUE=DURATION:PT1H
X-Robots-Tag:noindex
X-PUBLISHED-TTL:PT1H
BEGIN:VTIMEZONE
TZID:UTC
BEGIN:STANDARD
TZOFFSETFROM:+0000
TZOFFSETTO:+0000
TZNAME:UTC
DTSTART:20200101T000000
END:STANDARD
END:VTIMEZONE
BEGIN:VEVENT
DTSTART;TZID=UTC:20260201T110000
DTEND;TZID=UTC:20260201T140000
DTSTAMP:20260421T192742
CREATED:20251218T201511Z
LAST-MODIFIED:20260110T150104Z
UID:1542-1769943600-1769954400@buffalofreestyle.com
SUMMARY:Team Training
DESCRIPTION:
URL:https://buffalofreestyle.com/event/team-training-8/
LOCATION:Buffalo Ski Center\, 7414 state road\, Colden\, NY\, 14033\, United States
END:VEVENT
BEGIN:VEVENT
DTSTART;TZID=UTC:20260131T090000
DTEND;TZID=UTC:20260131T143000
DTSTAMP:20260421T192742
CREATED:20251218T201919Z
LAST-MODIFIED:20260110T145800Z
UID:1554-1769850000-1769869800@buffalofreestyle.com
SUMMARY:Team Training
DESCRIPTION:
URL:https://buffalofreestyle.com/event/team-training-11/
LOCATION:Buffalo Ski Center\, 7414 state road\, Colden\, NY\, 14033\, United States
END:VEVENT
BEGIN:VEVENT
DTSTART;VALUE=DATE:20260131
DTEND;VALUE=DATE:20260202
DTSTAMP:20260421T192742
CREATED:20251218T201302Z
LAST-MODIFIED:20251218T201302Z
UID:1534-1769817600-1769990399@buffalofreestyle.com
SUMMARY:Holiday Valley Competition
DESCRIPTION:
URL:https://buffalofreestyle.com/event/holiday-valley-competition/
LOCATION:Holiday Valley Resort\, 6557 Holiday Valley Rd\, ellicottville\, NY\, 14731\, United States
END:VEVENT
BEGIN:VEVENT
DTSTART;TZID=UTC:20260125T110000
DTEND;TZID=UTC:20260125T140000
DTSTAMP:20260421T192742
CREATED:20251218T201430Z
LAST-MODIFIED:20260110T150039Z
UID:1540-1769338800-1769349600@buffalofreestyle.com
SUMMARY:Team Training
DESCRIPTION:
URL:https://buffalofreestyle.com/event/team-training-7/
LOCATION:Buffalo Ski Center\, 7414 state road\, Colden\, NY\, 14033\, United States
END:VEVENT
BEGIN:VEVENT
DTSTART;TZID=UTC:20260124T090000
DTEND;TZID=UTC:20260124T143000
DTSTAMP:20260421T192742
CREATED:20251218T201409Z
LAST-MODIFIED:20260110T145844Z
UID:1538-1769245200-1769265000@buffalofreestyle.com
SUMMARY:Team Training
DESCRIPTION:
URL:https://buffalofreestyle.com/event/team-training-6/
LOCATION:NY
END:VEVENT
BEGIN:VEVENT
DTSTART;VALUE=DATE:20260124
DTEND;VALUE=DATE:20260126
DTSTAMP:20260421T192742
CREATED:20251218T201159Z
LAST-MODIFIED:20251218T201159Z
UID:1532-1769212800-1769385599@buffalofreestyle.com
SUMMARY:Bristol Competition
DESCRIPTION:
URL:https://buffalofreestyle.com/event/bristol-competition/
LOCATION:Bristol Mountain\, 5662 NY-64\, Canandaigua\, NY\, 14424\, United States
END:VEVENT
BEGIN:VEVENT
DTSTART;TZID=UTC:20260118T110000
DTEND;TZID=UTC:20260118T140000
DTSTAMP:20260421T192742
CREATED:20251218T200757Z
LAST-MODIFIED:20260110T150027Z
UID:1528-1768734000-1768744800@buffalofreestyle.com
SUMMARY:Team Training
DESCRIPTION:
URL:https://buffalofreestyle.com/event/team-training-5/
LOCATION:Buffalo Ski Center\, 7414 state road\, Colden\, NY\, 14033\, United States
END:VEVENT
BEGIN:VEVENT
DTSTART;TZID=UTC:20260117T150000
DTEND;TZID=UTC:20260117T150000
DTSTAMP:20260421T192742
CREATED:20251218T201024Z
LAST-MODIFIED:20251218T201024Z
UID:1530-1768662000-1768662000@buffalofreestyle.com
SUMMARY:Tom's Potluck
DESCRIPTION:Save the date! We are tentatively planning the third annual Coach Tom’s Pot Luck dinner for after practice on January 17th.
URL:https://buffalofreestyle.com/event/toms-potluck/
LOCATION:Buffalo Ski Center\, 7414 state road\, Colden\, NY\, 14033\, United States
END:VEVENT
BEGIN:VEVENT
DTSTART;TZID=UTC:20260117T090000
DTEND;TZID=UTC:20260117T143000
DTSTAMP:20260421T192742
CREATED:20251218T200734Z
LAST-MODIFIED:20260110T145840Z
UID:1526-1768640400-1768660200@buffalofreestyle.com
SUMMARY:Team Training
DESCRIPTION:
URL:https://buffalofreestyle.com/event/team-training-4/
LOCATION:Buffalo Ski Center\, 7414 state road\, Colden\, NY\, 14033\, United States
END:VEVENT
BEGIN:VEVENT
DTSTART;TZID=UTC:20260111T110000
DTEND;TZID=UTC:20260111T140000
DTSTAMP:20260421T192742
CREATED:20251218T200704Z
LAST-MODIFIED:20260110T150015Z
UID:1524-1768129200-1768140000@buffalofreestyle.com
SUMMARY:Team Training
DESCRIPTION:
URL:https://buffalofreestyle.com/event/team-training-3/
LOCATION:Buffalo Ski Center\, 7414 state road\, Colden\, NY\, 14033\, United States
END:VEVENT
BEGIN:VEVENT
DTSTART;TZID=UTC:20260110T090000
DTEND;TZID=UTC:20260110T143000
DTSTAMP:20260421T192742
CREATED:20251218T200637Z
LAST-MODIFIED:20260110T145835Z
UID:1522-1768035600-1768055400@buffalofreestyle.com
SUMMARY:Team Training
DESCRIPTION:
URL:https://buffalofreestyle.com/event/team-training-2/
LOCATION:Buffalo Ski Center\, 7414 state road\, Colden\, NY\, 14033\, United States
END:VEVENT
BEGIN:VEVENT
DTSTART;VALUE=DATE:20260104
DTEND;VALUE=DATE:20260105
DTSTAMP:20260421T192742
CREATED:20251218T200055Z
LAST-MODIFIED:20251218T200055Z
UID:1517-1767484800-1767571199@buffalofreestyle.com
SUMMARY:Team Training
DESCRIPTION:
URL:https://buffalofreestyle.com/event/team-training/
LOCATION:Buffalo Ski Center\, 7414 state road\, Colden\, NY\, 14033\, United States
END:VEVENT
BEGIN:VEVENT
DTSTART;VALUE=DATE:20260103
DTEND;VALUE=DATE:20260104
DTSTAMP:20260421T192742
CREATED:20251218T195853Z
LAST-MODIFIED:20251218T200536Z
UID:1515-1767398400-1767484799@buffalofreestyle.com
SUMMARY:Team Training
DESCRIPTION:
URL:https://buffalofreestyle.com/event/training-1-1/
LOCATION:Buffalo Ski Center\, 7414 state road\, Colden\, NY\, 14033\, United States
END:VEVENT
BEGIN:VEVENT
DTSTART;VALUE=DATE:20210226
DTEND;VALUE=DATE:20210301
DTSTAMP:20260421T192742
CREATED:20210222T150906Z
LAST-MODIFIED:20210222T151117Z
UID:1211-1614297600-1614556799@buffalofreestyle.com
SUMMARY:NY/PA Freestyle State Championships
DESCRIPTION:This weekend\, BSC will host the 2021 NY/PA Freestyle State Championship.   \nClick here for details \n 
URL:https://buffalofreestyle.com/event/ny-pa-freestyle-stat-championships/
LOCATION:NY
END:VEVENT
BEGIN:VEVENT
DTSTART;VALUE=DATE:20210221
DTEND;VALUE=DATE:20210222
DTSTAMP:20260421T192742
CREATED:20210216T222042Z
LAST-MODIFIED:20210216T222042Z
UID:1126-1613865600-1613951999@buffalofreestyle.com
SUMMARY:Buffalo Slopestyle 2021
DESCRIPTION:That’s right\, the BSC terrain park is open and ready for Buffalo Slopestyle 2021! \nPre-registration is processed online at: www.easternfreestyle.org. Online registration closes at 11:59pm two days prior to the first event. Once online registration closes\, an athlete may ONLY register at the event site. ON-SITE REGISTRATION IS SUBJECT TO A $15 LATE FEE PER EVENT\, not each day of competition. \nEvent area is only accessible by skis. Walk up spectators are not allowed this year. Parent tickets can be purchased in advance at https://www.buffaloskicenter.com/freestyle-parent-tickets/ \n\n\n\n\n\n\n\nRegistration\nNo registration\, bibs will be distributed to the head coaches for athletes\n07:30 – 8:30\n\n\nParent Tickets\nPickup only at Sitzmarker\n7:30 – 9:30 AM\n\n\nLift Opens\nSitzmarker Chairlift or Tamarack Chair\n8:00 AM\n\n\nCourse Inspection and coaches meeting\nMaterhorn\n8:30 – 8:45 AM\n\n\nTraining\n \n8:45 – 9:45 AM\n\n\nCourse Preparation\n \n9:45 – 10:00 AM\n\n\nCompetition Start\n \n10:00 AM\n\n\nAwards Ceremony\nNo awards ceremony. Coaches will pick up medals for distribution.\nOne hour after last run of second event
URL:https://buffalofreestyle.com/event/buffalo-slopestyle-2021/
LOCATION:NY
END:VEVENT
BEGIN:VEVENT
DTSTART;VALUE=DATE:20210220
DTEND;VALUE=DATE:20210221
DTSTAMP:20260421T192742
CREATED:20210216T185046Z
LAST-MODIFIED:20210216T185046Z
UID:1124-1613779200-1613865599@buffalofreestyle.com
SUMMARY:Buffalo Bumps 2.0
DESCRIPTION:Join us for a repeat\, Buffalo Bumps 2. \nPre-registration is processed online at: www.easternfreestyle.org. Online registration closes at 11:59pm two days prior to the first event. Once online registration closes\, an athlete may ONLY register at the event site. ON-SITE REGISTRATION IS SUBJECT TO A $15 LATE FEE PER EVENT\, not each day of competition. \nEvent area is only accessible by skis. Walk up spectators are not allowed this year. Parent tickets can be purchased in advance at https://www.buffaloskicenter.com/freestyle-parent-tickets/\n \n\n\n\nRegistration\nNo registration\, bibs will be distributed to the head coaches for athletes\n \n\n\nParent Tickets\nPickup only at Sitzmarker\n7:30 – 9:30 AM\n\n\nLift Opens\nSitzmarker Chairlift or Tamarack Chair\n8:00 AM\n\n\nCourse Inspection and coaches meeting\nStampede\n8:30 – 9:00 AM\n\n\nTraining\n \n9:00 – 10:15 AM\n\n\nCourse Preparation\n \n10:15 – 10:30 AM\n\n\nForerunners\n \n10:30 – 10:45 AM\n\n\nCompetition Start\n \n10:45 AM\n\n\nAwards Ceremony\nNo awards ceremony. Coaches will pick up medals for distribution.\nOne hour after last run of second event
URL:https://buffalofreestyle.com/event/buffalo-bumps-2-0/
LOCATION:NY
END:VEVENT
BEGIN:VEVENT
DTSTART;VALUE=DATE:20210214
DTEND;VALUE=DATE:20210215
DTSTAMP:20260421T192742
CREATED:20210211T163550Z
LAST-MODIFIED:20210211T163550Z
UID:1105-1613260800-1613347199@buffalofreestyle.com
SUMMARY:Aerial Assault
DESCRIPTION:Registration\nSitzmarker Lodge\, 7595 Lower East Hill Road\nColden NY 14033\nNo registration\, bibs will be distributed to the head coaches for all athletes\n\n\nParent Tickets\nSitzmarker Lodge P/U only\n7:30 to 9:30 AM\n\n\nLift Opens\nSitzmarker Chairlift\n8:00 AM\n\n\nCourse Inspection and coaches meeting\nDouble Full\n8:30 to 8:45 AM\n\n\nTraining\n \n8:45 to 9:45 AM\n\n\nCourse Preparation\n \n9:45 to 10:00 AM\n\n\nCompetition Start\n \n10:00 AM; second comp. start immediately after first\n\n\nAwards Ceremony\nNo awards ceremony. Coaches will pick up team medals for distribution\nOne hour after last run of second event
URL:https://buffalofreestyle.com/event/aerial-assault/
LOCATION:NY
END:VEVENT
BEGIN:VEVENT
DTSTART;VALUE=DATE:20210213
DTEND;VALUE=DATE:20210214
DTSTAMP:20260421T192742
CREATED:20210211T163430Z
LAST-MODIFIED:20210211T163430Z
UID:1103-1613174400-1613260799@buffalofreestyle.com
SUMMARY:Buffalo Bumps
DESCRIPTION:Registration\nSitzmarker Lodge\, 7595 Lower East Hill Road\nColden NY 14033\nNo registration\, bibs will be distributed to the head coaches for all athletes\n\n\nParent Tickets\nSitzmarker Lodge P/U only\n7:30 to 9:30 AM\n\n\nLift Opens\nSitzmarker Chairlift\n8:00 AM\n\n\nCourse Inspection and coaches meeting\nStampede\n8:30 to 9:00 AM\n\n\nTraining\n \n9:00 to 10:15 AM\n\n\nCourse Preparation\n \n10:15 to 10:30 AM\n\n\nForerunners\n \n10:30 to 10:45 AM\n\n\nCompetition Start\n \n10:45 AM\n\n\nAwards Ceremony\nNo awards ceremony. Coaches will pick up team medals for distribution\nOne hour after last run of second event
URL:https://buffalofreestyle.com/event/buffalo-bumps/
LOCATION:NY
END:VEVENT
BEGIN:VEVENT
DTSTART;TZID=UTC:20210212T150000
DTEND;TZID=UTC:20210212T180000
DTSTAMP:20260421T192742
CREATED:20210211T163349Z
LAST-MODIFIED:20210211T163349Z
UID:1101-1613142000-1613152800@buffalofreestyle.com
SUMMARY:Aerial Training
DESCRIPTION:Aerial training for Buffalo Bumps & Aerial Assault \nTickets are required\, and can be purchased for $25 at guest services –  Tamarack Lodge\, 7414 State Rd. Colden NY 14033 \n 
URL:https://buffalofreestyle.com/event/aerial-training/
LOCATION:NY
END:VEVENT
BEGIN:VEVENT
DTSTART;TZID=UTC:20210212T140000
DTEND;TZID=UTC:20210212T180000
DTSTAMP:20260421T192742
CREATED:20210211T163221Z
LAST-MODIFIED:20210211T163221Z
UID:1099-1613138400-1613152800@buffalofreestyle.com
SUMMARY:Mogul Training
DESCRIPTION:Mogul training for Buffalo Bumps & Aerial Assault \nTickets are required\, and can be purchased for $25 at guest services –  Tamarack Lodge\, 7414 State Rd. Colden NY 14033
URL:https://buffalofreestyle.com/event/mogul-training/
LOCATION:NY
END:VEVENT
BEGIN:VEVENT
DTSTART;TZID=UTC:20200329T080000
DTEND;TZID=UTC:20200329T170000
DTSTAMP:20260421T192742
CREATED:20191017T234506Z
LAST-MODIFIED:20191017T234506Z
UID:968-1585468800-1585501200@buffalofreestyle.com
SUMMARY:A - Whiteface Dual Moguls
DESCRIPTION:
URL:https://buffalofreestyle.com/event/a-whiteface-dual-moguls/
LOCATION:Whiteface Mountain\, 5021 Route 86\,\, Wilmington\, NY\, 12997\, United States
END:VEVENT
BEGIN:VEVENT
DTSTART;TZID=UTC:20200328T080000
DTEND;TZID=UTC:20200328T170000
DTSTAMP:20260421T192742
CREATED:20191017T234429Z
LAST-MODIFIED:20191017T234429Z
UID:966-1585382400-1585414800@buffalofreestyle.com
SUMMARY:A - Whiteface Moguls
DESCRIPTION:
URL:https://buffalofreestyle.com/event/a-whiteface-moguls/
LOCATION:Whiteface Mountain\, 5021 Route 86\,\, Wilmington\, NY\, 12997\, United States
END:VEVENT
BEGIN:VEVENT
DTSTART;TZID=UTC:20200327T080000
DTEND;TZID=UTC:20200327T170000
DTSTAMP:20260421T192742
CREATED:20191017T234347Z
LAST-MODIFIED:20191017T234347Z
UID:963-1585296000-1585328400@buffalofreestyle.com
SUMMARY:A - White Face Spring Moguls - Practice
DESCRIPTION:
URL:https://buffalofreestyle.com/event/a-white-face-spring-moguls-practice/
LOCATION:Whiteface Mountain\, 5021 Route 86\,\, Wilmington\, NY\, 12997\, United States
END:VEVENT
BEGIN:VEVENT
DTSTART;TZID=UTC:20200322T080000
DTEND;TZID=UTC:20200322T170000
DTSTAMP:20260421T192742
CREATED:20191012T140923Z
LAST-MODIFIED:20191017T231451Z
UID:885-1584864000-1584896400@buffalofreestyle.com
SUMMARY:B - East Coast Champs - Bristol - Aerials
DESCRIPTION:Both young gun and junior competitions run the same day \nMore info to come
URL:https://buffalofreestyle.com/event/east-coast-champs-bristol-aerials/
LOCATION:Bristol Mountain\, 5662 NY-64\, Canandaigua\, NY\, 14424\, United States
END:VEVENT
BEGIN:VEVENT
DTSTART;TZID=UTC:20200321T080000
DTEND;TZID=UTC:20200321T170000
DTSTAMP:20260421T192742
CREATED:20191012T140815Z
LAST-MODIFIED:20191017T231459Z
UID:883-1584777600-1584810000@buffalofreestyle.com
SUMMARY:B - East Coast Champs - Bristol - Moguls
DESCRIPTION:Both young gun and junior competitions run the same day \nMore info to come
URL:https://buffalofreestyle.com/event/east-coast-champs-bristol-moguls/
LOCATION:Bristol Mountain\, 5662 NY-64\, Canandaigua\, NY\, 14424\, United States
END:VEVENT
BEGIN:VEVENT
DTSTART;TZID=UTC:20200320T080000
DTEND;TZID=UTC:20200320T170000
DTSTAMP:20260421T192742
CREATED:20191012T140041Z
LAST-MODIFIED:20191017T231505Z
UID:878-1584691200-1584723600@buffalofreestyle.com
SUMMARY:B - East Coast Champs - Bristol - Slopestyle
DESCRIPTION:Both young gun and junior competitions run the same day \nMore info to come
URL:https://buffalofreestyle.com/event/east-coast-champs-moguls/
LOCATION:Bristol Mountain\, 5662 NY-64\, Canandaigua\, NY\, 14424\, United States
END:VEVENT
BEGIN:VEVENT
DTSTART;TZID=UTC:20200319T120000
DTEND;TZID=UTC:20200319T210000
DTSTAMP:20260421T192742
CREATED:20191012T141105Z
LAST-MODIFIED:20191017T231545Z
UID:887-1584619200-1584651600@buffalofreestyle.com
SUMMARY:B - East Coast Champs - Bristol - Practice
DESCRIPTION:Practice open on all venues for Young Guns and Juniors \nSchedule and details to come
URL:https://buffalofreestyle.com/event/east-coast-champs-bristol-practice/
LOCATION:Bristol Mountain\, 5662 NY-64\, Canandaigua\, NY\, 14424\, United States
END:VEVENT
BEGIN:VEVENT
DTSTART;TZID=UTC:20200223T080000
DTEND;TZID=UTC:20200223T170000
DTSTAMP:20260421T192742
CREATED:20191010T190600Z
LAST-MODIFIED:20191017T231552Z
UID:876-1582444800-1582477200@buffalofreestyle.com
SUMMARY:B - BSC Regional Champs Air/Slope
DESCRIPTION:
URL:https://buffalofreestyle.com/event/bsc-regional-champs-air-slope/
LOCATION:Buffalo Ski Center\, 7414 state road\, Colden\, NY\, 14033\, United States
END:VEVENT
BEGIN:VEVENT
DTSTART;TZID=UTC:20200222T080000
DTEND;TZID=UTC:20200222T170000
DTSTAMP:20260421T192742
CREATED:20191010T190530Z
LAST-MODIFIED:20191017T231558Z
UID:874-1582358400-1582390800@buffalofreestyle.com
SUMMARY:B - BSC Regional Champs Mogul
DESCRIPTION:
URL:https://buffalofreestyle.com/event/bsc-regional-champs-mogul/
LOCATION:Buffalo Ski Center\, 7414 state road\, Colden\, NY\, 14033\, United States
END:VEVENT
BEGIN:VEVENT
DTSTART;TZID=UTC:20200209T080000
DTEND;TZID=UTC:20200209T170000
DTSTAMP:20260421T192742
CREATED:20191017T233512Z
LAST-MODIFIED:20191017T233844Z
UID:961-1581235200-1581267600@buffalofreestyle.com
SUMMARY:A - Killington Dual Moguls
DESCRIPTION:
URL:https://buffalofreestyle.com/event/a-killington-dual-moguls/
LOCATION:Killington Mountain\, 4763 Killington Road\, Killington\, VT\, 05751\, United States
END:VEVENT
END:VCALENDAR